BEGIN:VCALENDAR
VERSION:2.0
PRODID:-//gemusiclessons.com - ECPv5.10.0//NONSGML v1.0//EN
CALSCALE:GREGORIAN
METHOD:PUBLISH
X-WR-CALNAME:gemusiclessons.com
X-ORIGINAL-URL:https://gemusiclessons.com
X-WR-CALDESC:Events for gemusiclessons.com
BEGIN:VTIMEZONE
TZID:America/Chicago
BEGIN:DAYLIGHT
TZOFFSETFROM:-0600
TZOFFSETTO:-0500
TZNAME:CDT
DTSTART:20250309T080000
END:DAYLIGHT
BEGIN:STANDARD
TZOFFSETFROM:-0500
TZOFFSETTO:-0600
TZNAME:CST
DTSTART:20251102T070000
END:STANDARD
END:VTIMEZONE
BEGIN:VEVENT
DTSTART;TZID=America/Chicago:20250413T080000
DTEND;TZID=America/Chicago:20250413T180000
DTSTAMP:20260424T051353
CREATED:20190818T002430Z
LAST-MODIFIED:20240908T215733Z
UID:769-1744531200-1744567200@gemusiclessons.com
SUMMARY:AIM Performance Exams Levels 1-2 and 10-12 at Harper College
DESCRIPTION:AIM Performance Exams Levels 1-2 and 10-12 are held at Harper College Music Instruction Center\, formally known as building P. \nPerformance Exam is consisted of one part with a judge which includes Technique Skills and Repertoire. Students are required to bring their music with measures numbered and markings erased. Please note that no photocopies are excepted. \nEach student will receive an individual time slot and it is recommended to arrive 15-20 min. before your assigned time. \nParking Information: please use parking lot 2.
URL:https://gemusiclessons.com/index.php/calendar/aim-performance-exams-levels-1-2-and-10-12-nwsmta-harper-college/
LOCATION:Harper College\, 1200 W Algonquin Rd.\, Palatine\, IL\, 60067\, United States
CATEGORIES:AIM Exams,Aim Exams Harper College
ATTACH;FMTTYPE=image/jpeg:https://gemusiclessons.com/wp-content/uploads/2019/08/prog_courses_theory_wide.jpg
END:VEVENT
END:VCALENDAR