BEGIN:VCALENDAR
VERSION:2.0
PRODID:-//gemusiclessons.com - ECPv5.10.0//NONSGML v1.0//EN
CALSCALE:GREGORIAN
METHOD:PUBLISH
X-WR-CALNAME:gemusiclessons.com
X-ORIGINAL-URL:https://gemusiclessons.com
X-WR-CALDESC:Events for gemusiclessons.com
BEGIN:VTIMEZONE
TZID:America/Chicago
BEGIN:DAYLIGHT
TZOFFSETFROM:-0600
TZOFFSETTO:-0500
TZNAME:CDT
DTSTART:20230312T080000
END:DAYLIGHT
BEGIN:STANDARD
TZOFFSETFROM:-0500
TZOFFSETTO:-0600
TZNAME:CST
DTSTART:20231105T070000
END:STANDARD
END:VTIMEZONE
BEGIN:VEVENT
DTSTART;VALUE=DATE:20230327
DTEND;VALUE=DATE:20230328
DTSTAMP:20260424T064757
CREATED:20190923T020726Z
LAST-MODIFIED:20221031T022825Z
UID:928-1679875200-1679961599@gemusiclessons.com
SUMMARY:AIM Performance Exams Registration Deadline Lake Forest
DESCRIPTION:AIM Performance Exams Registration will be closed at midnight. Only teacher can register students for the event.
URL:https://gemusiclessons.com/index.php/calendar/aim-performance-exams-registration-deadline/
LOCATION:online
CATEGORIES:AIM Exam Registration Deadline NSMTA
END:VEVENT
END:VCALENDAR