BEGIN:VCALENDAR
VERSION:2.0
PRODID:-//gemusiclessons.com - ECPv5.10.0//NONSGML v1.0//EN
CALSCALE:GREGORIAN
METHOD:PUBLISH
X-WR-CALNAME:gemusiclessons.com
X-ORIGINAL-URL:https://gemusiclessons.com
X-WR-CALDESC:Events for gemusiclessons.com
BEGIN:VTIMEZONE
TZID:America/Chicago
BEGIN:DAYLIGHT
TZOFFSETFROM:-0600
TZOFFSETTO:-0500
TZNAME:CDT
DTSTART:20240310T080000
END:DAYLIGHT
BEGIN:STANDARD
TZOFFSETFROM:-0500
TZOFFSETTO:-0600
TZNAME:CST
DTSTART:20241103T070000
END:STANDARD
END:VTIMEZONE
BEGIN:VEVENT
DTSTART;TZID=America/Chicago:20241027T133000
DTEND;TZID=America/Chicago:20241027T143000
DTSTAMP:20260424T084906
CREATED:20190817T070025Z
LAST-MODIFIED:20240908T232111Z
UID:727-1730035800-1730039400@gemusiclessons.com
SUMMARY:Classical Recital NWSMTA
DESCRIPTION:Classical Recital takes place at St. Michael’s Episcopal Church at 1:30 pm.\nThe purpose of Classical Recital to expose students and audience to classical repertoire. They can perform and listen other fella musicians and maybe discover some pieces they have never heard before. \nStudents may play one piece or movement no matter how short the\npiece is.
URL:https://gemusiclessons.com/index.php/calendar/classical-recital/
LOCATION:St. Michael’s Episcopal Church\, 647 Dundee Ave\, Barrington\, 60010
CATEGORIES:Classical Recital,Recital
ATTACH;FMTTYPE=image/jpeg:https://gemusiclessons.com/wp-content/uploads/2019/08/CCI08162019-e1566007203109.jpg
END:VEVENT
END:VCALENDAR