BEGIN:VCALENDAR
VERSION:2.0
PRODID:-//gemusiclessons.com - ECPv5.10.0//NONSGML v1.0//EN
CALSCALE:GREGORIAN
METHOD:PUBLISH
X-WR-CALNAME:gemusiclessons.com
X-ORIGINAL-URL:https://gemusiclessons.com
X-WR-CALDESC:Events for gemusiclessons.com
BEGIN:VTIMEZONE
TZID:America/Chicago
BEGIN:DAYLIGHT
TZOFFSETFROM:-0600
TZOFFSETTO:-0500
TZNAME:CDT
DTSTART:20220313T080000
END:DAYLIGHT
BEGIN:STANDARD
TZOFFSETFROM:-0500
TZOFFSETTO:-0600
TZNAME:CST
DTSTART:20221106T070000
END:STANDARD
END:VTIMEZONE
BEGIN:VEVENT
DTSTART;VALUE=DATE:20220220
DTEND;VALUE=DATE:20220221
DTSTAMP:20260424T071247
CREATED:20190923T020146Z
LAST-MODIFIED:20211101T192512Z
UID:925-1645315200-1645401599@gemusiclessons.com
SUMMARY:Gold Medal Recital in Winnetka
DESCRIPTION:Gold Medal Recital will be held at Music Institute of Chicago in Winnetka.
URL:https://gemusiclessons.com/index.php/calendar/gold-medal-recital-winnetka/
LOCATION:MIC Winnetka\, 300 Green Bay Rd.\, Winnetka\, IL\, 60093
CATEGORIES:Recital,Sonata Sonatina Festival
END:VEVENT
END:VCALENDAR