BEGIN:VCALENDAR
VERSION:2.0
PRODID:-//gemusiclessons.com - ECPv5.10.0//NONSGML v1.0//EN
CALSCALE:GREGORIAN
METHOD:PUBLISH
X-WR-CALNAME:gemusiclessons.com
X-ORIGINAL-URL:https://gemusiclessons.com
X-WR-CALDESC:Events for gemusiclessons.com
BEGIN:VTIMEZONE
TZID:America/Chicago
BEGIN:DAYLIGHT
TZOFFSETFROM:-0600
TZOFFSETTO:-0500
TZNAME:CDT
DTSTART:20220313T080000
END:DAYLIGHT
BEGIN:STANDARD
TZOFFSETFROM:-0500
TZOFFSETTO:-0600
TZNAME:CST
DTSTART:20221106T070000
END:STANDARD
END:VTIMEZONE
BEGIN:VEVENT
DTSTART;VALUE=DATE:20221113
DTEND;VALUE=DATE:20221114
DTSTAMP:20260424T083609
CREATED:20190816T090442Z
LAST-MODIFIED:20221101T032026Z
UID:704-1668297600-1668383999@gemusiclessons.com
SUMMARY:Gold Medal Recital
DESCRIPTION:Gold Medal Recital will be held at Countryside Church Unitarian Universalist in Palatine. The recital times are 1:30 pm to 2:45 pm and 3:00 pm to 4:30 pm. recital chair contact information is here.
URL:https://gemusiclessons.com/index.php/calendar/gold-medal-recital/
LOCATION:Countryside Unitarian Universalists Church\, 1025 N. Smith St.\, Palatine\, IL\, 60067\, United States
CATEGORIES:Recital,Sonata Sonatina Festival
ATTACH;FMTTYPE=image/jpeg:https://gemusiclessons.com/wp-content/uploads/2019/08/IMG_7079.jpg
END:VEVENT
END:VCALENDAR