BEGIN:VCALENDAR
VERSION:2.0
PRODID:-//gemusiclessons.com - ECPv5.10.0//NONSGML v1.0//EN
CALSCALE:GREGORIAN
METHOD:PUBLISH
X-WR-CALNAME:gemusiclessons.com
X-ORIGINAL-URL:https://gemusiclessons.com
X-WR-CALDESC:Events for gemusiclessons.com
BEGIN:VTIMEZONE
TZID:America/Chicago
BEGIN:DAYLIGHT
TZOFFSETFROM:-0600
TZOFFSETTO:-0500
TZNAME:CDT
DTSTART:20220313T080000
END:DAYLIGHT
BEGIN:STANDARD
TZOFFSETFROM:-0500
TZOFFSETTO:-0600
TZNAME:CST
DTSTART:20221106T070000
END:STANDARD
END:VTIMEZONE
BEGIN:VEVENT
DTSTART;VALUE=DATE:20220305
DTEND;VALUE=DATE:20220306
DTSTAMP:20260424T050856
CREATED:20190923T021045Z
LAST-MODIFIED:20211101T231434Z
UID:930-1646438400-1646524799@gemusiclessons.com
SUMMARY:North Shore Piano Competition Registration Begins
DESCRIPTION:North Shore Piano Competition registration begins. Video submission deadline will be determined soon.
URL:https://gemusiclessons.com/index.php/calendar/north-shore-piano-competition-registration/
LOCATION:online
CATEGORIES:Competitions
END:VEVENT
END:VCALENDAR