BEGIN:VCALENDAR
VERSION:2.0
PRODID:-//gemusiclessons.com - ECPv5.10.0//NONSGML v1.0//EN
CALSCALE:GREGORIAN
METHOD:PUBLISH
X-WR-CALNAME:gemusiclessons.com
X-ORIGINAL-URL:https://gemusiclessons.com
X-WR-CALDESC:Events for gemusiclessons.com
BEGIN:VTIMEZONE
TZID:America/Chicago
BEGIN:DAYLIGHT
TZOFFSETFROM:-0600
TZOFFSETTO:-0500
TZNAME:CDT
DTSTART:20230312T080000
END:DAYLIGHT
BEGIN:STANDARD
TZOFFSETFROM:-0500
TZOFFSETTO:-0600
TZNAME:CST
DTSTART:20231105T070000
END:STANDARD
END:VTIMEZONE
BEGIN:VEVENT
DTSTART;VALUE=DATE:20230507
DTEND;VALUE=DATE:20230508
DTSTAMP:20260424T045223
CREATED:20190923T041528Z
LAST-MODIFIED:20221116T191503Z
UID:942-1683417600-1683503999@gemusiclessons.com
SUMMARY:North Shore Piano Competition
DESCRIPTION:North Shore Piano Competition is designed for piano students who want to study challenging repertoire and who enjoy competing with other gifted students. It will be held in person at Music Conservatory of Illinois\, 2809 Central St.\, Evanston\, IL 60201\nFor repertoire list and rules please click here.
URL:https://gemusiclessons.com/index.php/calendar/north-shore-piano-competition/
LOCATION:Music Conservatory of Illinois\, 2809 Central St.\, Evanston\, IL\, 60201\, United States
CATEGORIES:Competitions
ATTACH;FMTTYPE=image/jpeg:https://gemusiclessons.com/wp-content/uploads/2019/09/Piano-Keys.jpg
END:VEVENT
END:VCALENDAR