BEGIN:VCALENDAR
VERSION:2.0
PRODID:-//gemusiclessons.com - ECPv5.10.0//NONSGML v1.0//EN
CALSCALE:GREGORIAN
METHOD:PUBLISH
X-WR-CALNAME:gemusiclessons.com
X-ORIGINAL-URL:https://gemusiclessons.com
X-WR-CALDESC:Events for gemusiclessons.com
BEGIN:VTIMEZONE
TZID:America/Chicago
BEGIN:DAYLIGHT
TZOFFSETFROM:-0600
TZOFFSETTO:-0500
TZNAME:CDT
DTSTART:20240310T080000
END:DAYLIGHT
BEGIN:STANDARD
TZOFFSETFROM:-0500
TZOFFSETTO:-0600
TZNAME:CST
DTSTART:20241103T070000
END:STANDARD
END:VTIMEZONE
BEGIN:VEVENT
DTSTART;VALUE=DATE:20241013
DTEND;VALUE=DATE:20241014
DTSTAMP:20260424T070451
CREATED:20190911T182737Z
LAST-MODIFIED:20240908T224851Z
UID:855-1728777600-1728863999@gemusiclessons.com
SUMMARY:Pop and Jazz\, Classical Recitals Registration Deadline
DESCRIPTION:Pop and Jazz\, Classical Recitals registration will be closed at midnight.
URL:https://gemusiclessons.com/index.php/calendar/pop-classical-recital-deadline/
LOCATION:online
CATEGORIES:Recital
END:VEVENT
END:VCALENDAR