BEGIN:VCALENDAR
VERSION:2.0
PRODID:-//gemusiclessons.com - ECPv5.10.0//NONSGML v1.0//EN
CALSCALE:GREGORIAN
METHOD:PUBLISH
X-WR-CALNAME:gemusiclessons.com
X-ORIGINAL-URL:https://gemusiclessons.com
X-WR-CALDESC:Events for gemusiclessons.com
BEGIN:VTIMEZONE
TZID:America/Chicago
BEGIN:DAYLIGHT
TZOFFSETFROM:-0600
TZOFFSETTO:-0500
TZNAME:CDT
DTSTART:20230312T080000
END:DAYLIGHT
BEGIN:STANDARD
TZOFFSETFROM:-0500
TZOFFSETTO:-0600
TZNAME:CST
DTSTART:20231105T070000
END:STANDARD
END:VTIMEZONE
BEGIN:VEVENT
DTSTART;TZID=America/Chicago:20230611T150000
DTEND;TZID=America/Chicago:20230611T160000
DTSTAMP:20260424T064347
CREATED:20211102T035800Z
LAST-MODIFIED:20230509T203018Z
UID:1864-1686495600-1686499200@gemusiclessons.com
SUMMARY:Spring Studio Recital
DESCRIPTION:Spring Studio Recital will be held at Elena Goptseva Piano Studio Barrington Ice House Mall\, Suite 130\, Barrington\, IL 60010.\nThe recital start time is 3:00 pm. Please arrive 15 min. before the start time.\n Registration fee is $25 per student. Registration deadline is May 21.
URL:https://gemusiclessons.com/index.php/calendar/spring-studio-recital/
LOCATION:Elena Goptseva Piano Studio\, 200 Applebee St. Suite 130\, Barrington\, IL\, 60010\, United States
CATEGORIES:Recital
ATTACH;FMTTYPE=image/jpeg:https://gemusiclessons.com/wp-content/uploads/2023/05/Studio-Spring-recital.jpg
END:VEVENT
END:VCALENDAR