BEGIN:VCALENDAR
VERSION:2.0
PRODID:-//gemusiclessons.com - ECPv5.10.0//NONSGML v1.0//EN
CALSCALE:GREGORIAN
METHOD:PUBLISH
X-WR-CALNAME:gemusiclessons.com
X-ORIGINAL-URL:https://gemusiclessons.com
X-WR-CALDESC:Events for gemusiclessons.com
BEGIN:VTIMEZONE
TZID:America/Chicago
BEGIN:DAYLIGHT
TZOFFSETFROM:-0600
TZOFFSETTO:-0500
TZNAME:CDT
DTSTART:20220313T080000
END:DAYLIGHT
BEGIN:STANDARD
TZOFFSETFROM:-0500
TZOFFSETTO:-0600
TZNAME:CST
DTSTART:20221106T070000
END:STANDARD
END:VTIMEZONE
BEGIN:VEVENT
DTSTART;VALUE=DATE:20220718
DTEND;VALUE=DATE:20220829
DTSTAMP:20260424T124048
CREATED:20220721T190815Z
LAST-MODIFIED:20220819T030013Z
UID:1921-1658102400-1661731199@gemusiclessons.com
SUMMARY:Summer Break
DESCRIPTION:Summer Break begins on Monday\, July 18 and ends on Sunday\, August 28. Lessons will resume on Monday\, August 29.\nHave a great summer!
URL:https://gemusiclessons.com/index.php/calendar/summer-break/
LOCATION:Elena Goptseva Piano Studio\, 200 Applebee St. Suite 130\, Barrington\, IL\, 60010\, United States
ATTACH;FMTTYPE=image/jpeg:https://gemusiclessons.com/wp-content/uploads/2022/07/Summer-break1.jpg
END:VEVENT
END:VCALENDAR