BEGIN:VCALENDAR
VERSION:2.0
PRODID:-//gemusiclessons.com - ECPv5.10.0//NONSGML v1.0//EN
CALSCALE:GREGORIAN
METHOD:PUBLISH
X-WR-CALNAME:gemusiclessons.com
X-ORIGINAL-URL:https://gemusiclessons.com
X-WR-CALDESC:Events for gemusiclessons.com
BEGIN:VTIMEZONE
TZID:America/Chicago
BEGIN:DAYLIGHT
TZOFFSETFROM:-0600
TZOFFSETTO:-0500
TZNAME:CDT
DTSTART:20240310T080000
END:DAYLIGHT
BEGIN:STANDARD
TZOFFSETFROM:-0500
TZOFFSETTO:-0600
TZNAME:CST
DTSTART:20241103T070000
END:STANDARD
END:VTIMEZONE
BEGIN:VEVENT
DTSTART;VALUE=DATE:20241127
DTEND;VALUE=DATE:20241201
DTSTAMP:20260424T104805
CREATED:20211102T021900Z
LAST-MODIFIED:20240908T221828Z
UID:1856-1732665600-1733011199@gemusiclessons.com
SUMMARY:Thanksgiving Break
DESCRIPTION:Thanksgiving Break! No lessons. Happy Holiday!
URL:https://gemusiclessons.com/index.php/calendar/thanksgiving-break/
LOCATION:Elena Goptseva Piano Studio\, 200 Applebee St. Suite 130\, Barrington\, IL\, 60010\, United States
ATTACH;FMTTYPE=image/jpeg:https://gemusiclessons.com/wp-content/uploads/2021/11/Happy-Thanksgiving.jpg
END:VEVENT
END:VCALENDAR