BEGIN:VCALENDAR
VERSION:2.0
PRODID:-//gemusiclessons.com - ECPv5.10.0//NONSGML v1.0//EN
CALSCALE:GREGORIAN
METHOD:PUBLISH
X-WR-CALNAME:gemusiclessons.com
X-ORIGINAL-URL:https://gemusiclessons.com
X-WR-CALDESC:Events for gemusiclessons.com
BEGIN:VTIMEZONE
TZID:America/Chicago
BEGIN:DAYLIGHT
TZOFFSETFROM:-0600
TZOFFSETTO:-0500
TZNAME:CDT
DTSTART:20220313T080000
END:DAYLIGHT
BEGIN:STANDARD
TZOFFSETFROM:-0500
TZOFFSETTO:-0600
TZNAME:CST
DTSTART:20221106T070000
END:STANDARD
END:VTIMEZONE
BEGIN:VEVENT
DTSTART;TZID=America/Chicago:20221218T143000
DTEND;TZID=America/Chicago:20221218T163000
DTSTAMP:20260424T083445
CREATED:20211102T040705Z
LAST-MODIFIED:20221111T220655Z
UID:1866-1671373800-1671381000@gemusiclessons.com
SUMMARY:Winter Studio Recital
DESCRIPTION:Winter Studio Recital will be held at Barrington Area Library at 2:30 pm. Please arrive 15 min. before start time. Registration fee is $25 per student.  Dress code: Formal concert attire. Clear nail polish for girls. No boots or sneakers.
URL:https://gemusiclessons.com/index.php/calendar/winter-studio-recital-2/
LOCATION:Barrington Area Libarary\, 505 N Northwest Hwy\, Barrington\, IL\, 60010\, United States
CATEGORIES:Recital
ATTACH;FMTTYPE=image/jpeg:https://gemusiclessons.com/wp-content/uploads/2021/11/Winter-Studio-Recital.jpg
END:VEVENT
END:VCALENDAR